BEGIN:VCALENDAR
VERSION:2.0
PRODID:-//Daily Objective Distillery - ECPv6.15.20//NONSGML v1.0//EN
CALSCALE:GREGORIAN
METHOD:PUBLISH
X-WR-CALNAME:Daily Objective Distillery
X-ORIGINAL-URL:https://dailyobjectivedistillery.com
X-WR-CALDESC:Events for Daily Objective Distillery
REFRESH-INTERVAL;VALUE=DURATION:PT1H
X-Robots-Tag:noindex
X-PUBLISHED-TTL:PT1H
BEGIN:VTIMEZONE
TZID:America/Chicago
BEGIN:DAYLIGHT
TZOFFSETFROM:-0600
TZOFFSETTO:-0500
TZNAME:CDT
DTSTART:20250309T080000
END:DAYLIGHT
BEGIN:STANDARD
TZOFFSETFROM:-0500
TZOFFSETTO:-0600
TZNAME:CST
DTSTART:20251102T070000
END:STANDARD
BEGIN:DAYLIGHT
TZOFFSETFROM:-0600
TZOFFSETTO:-0500
TZNAME:CDT
DTSTART:20260308T080000
END:DAYLIGHT
BEGIN:STANDARD
TZOFFSETFROM:-0500
TZOFFSETTO:-0600
TZNAME:CST
DTSTART:20261101T070000
END:STANDARD
BEGIN:DAYLIGHT
TZOFFSETFROM:-0600
TZOFFSETTO:-0500
TZNAME:CDT
DTSTART:20270314T080000
END:DAYLIGHT
BEGIN:STANDARD
TZOFFSETFROM:-0500
TZOFFSETTO:-0600
TZNAME:CST
DTSTART:20271107T070000
END:STANDARD
END:VTIMEZONE
BEGIN:VEVENT
DTSTART;TZID=America/Chicago:20260226T180000
DTEND;TZID=America/Chicago:20260226T210000
DTSTAMP:20260420T210651
CREATED:20260122T104649Z
LAST-MODIFIED:20260226T104118Z
UID:559-1772128800-1772139600@dailyobjectivedistillery.com
SUMMARY:David Luther | LIVE MUSIC at Daily Objective Distillery | Thursday\, February 26
DESCRIPTION:Experience a night of catchy\, heartfelt music at Daily Objective Distillery with David Luther\, former guitarist and backing vocalist for David George & A Crooked Mile and singer/songwriter best known for his single “Home To Kansas City”—a Springsteen-esque anthem celebrating the city we all call home. His newest release\, “Good To You” featuring Nashville powerhouse Kim Keyes\, previews an exciting new EP produced by Kansas City’s David George. Live music runs from 6 PM–9 PM\, the tasting room is open from 4 PM–10 PM\, and Mac Daddy Food Truck will be on-site serving delicious bites. Come for the music\, stay for craft cocktails\, good vibes\, and great views!
URL:https://dailyobjectivedistillery.com/event/david-luther-live-music-at-daily-objective-distillery-thursday-february-26/
LOCATION:14215 NW State Route J\, Amsterdam\, MO\, United States\, Missouri 64723
ATTACH;FMTTYPE=image/jpeg:https://dailyobjectivedistillery.com/wp-content/uploads/2026/01/559_image_618343720_122153186228721627_2685008674897232396_n.jpg
END:VEVENT
BEGIN:VEVENT
DTSTART;TZID=America/Chicago:20260221T180000
DTEND;TZID=America/Chicago:20260221T210000
DTSTAMP:20260420T210651
CREATED:20260122T104649Z
LAST-MODIFIED:20260221T104758Z
UID:561-1771696800-1771707600@dailyobjectivedistillery.com
SUMMARY:David Marshall | LIVE MUSIC at Daily Objective Distillery | Saturday\, February 21
DESCRIPTION:Experience a night of music\, cocktails\, and great vibes at Daily Objective Distillery with David Marshall\, Kansas singer/songwriter and multi-instrumentalist! With 20+ years of coast-to-coast performing and opening for artists like Eric Church\, Dustin Lynch\, and Pat Green\, David delivers originals and crowd favorites that will have you smiling and singing along. Our tasting room is open from 4 PM to 10 PM\, featuring craft cocktails\, Taco Fuego KC food truck\, live music from 6 PM–9 PM\, and distillery tours—come for the tunes\, stay for the drinks\, food\, and amazing views!
URL:https://dailyobjectivedistillery.com/event/david-marshall-live-music-at-daily-objective-distillery-saturday-february-21/
LOCATION:14215 NW State Route J\, Amsterdam\, MO\, United States\, Missouri 64723
ATTACH;FMTTYPE=image/jpeg:https://dailyobjectivedistillery.com/wp-content/uploads/2026/01/561_image_618801671_122153184464721627_2510548117223527394_n.jpg
END:VEVENT
BEGIN:VEVENT
DTSTART;TZID=America/Chicago:20260220T180000
DTEND;TZID=America/Chicago:20260220T210000
DTSTAMP:20260420T210651
CREATED:20260122T104650Z
LAST-MODIFIED:20260220T104839Z
UID:563-1771610400-1771621200@dailyobjectivedistillery.com
SUMMARY:Mikey Needleman | LIVE MUSIC at Daily Objective Distillery | Friday\, February 20
DESCRIPTION:Get ready for an entertaining night at Daily Objective Distillery as the Mikey Needleman Band (a solo show with Mikey!) brings over seven decades of music\, from sing-along covers to catchy originals that will keep the energy high and the crowd moving! Our tasting room is open from 4 PM to 10 PM\, featuring craft cocktails\, delicious bites from Mac Daddy Food Truck\, and the chance to meet our distillers and explore the distillery on a tour. Live music runs from 6 PM–9 PM—come for the music\, stay for the cocktails\, food\, and great views!
URL:https://dailyobjectivedistillery.com/event/mikey-needleman-live-music-at-daily-objective-distillery-friday-february-20/
LOCATION:14215 NW State Route J\, Amsterdam\, MO\, United States\, Missouri 64723
ATTACH;FMTTYPE=image/jpeg:https://dailyobjectivedistillery.com/wp-content/uploads/2026/01/563_image_619212130_122153182322721627_7688919587095525413_n.jpg
END:VEVENT
BEGIN:VEVENT
DTSTART;TZID=America/Chicago:20260219T180000
DTEND;TZID=America/Chicago:20260219T210000
DTSTAMP:20260420T210651
CREATED:20260122T104651Z
LAST-MODIFIED:20260219T104656Z
UID:565-1771524000-1771534800@dailyobjectivedistillery.com
SUMMARY:Rusty Laffoon | LIVE MUSIC at Daily Objective Distillery | Thursday\, February 19
DESCRIPTION:Get ready to sing\, sway\, and rock out with Rusty Laffoon at Daily Objective Distillery! This versatile acoustic artist is back and DOD and moves effortlessly between Country\, Rock\, Blues\, Motown\, Pop\, and more\, delivering performances that will have you singing along from start to finish. Our tasting room is open from 4 PM to 10 PM with craft cocktails\, Ravioli’s Pastas 2 Go food truck\, and live music from 6 PM–9 PM—come for the tunes\, stay for the drinks\, food\, and great vibes!
URL:https://dailyobjectivedistillery.com/event/rusty-laffoon-live-music-at-daily-objective-distillery-thursday-february-19/
LOCATION:14215 NW State Route J\, Amsterdam\, MO\, United States\, Missouri 64723
ATTACH;FMTTYPE=image/jpeg:https://dailyobjectivedistillery.com/wp-content/uploads/2026/01/565_image_619305821_122153183348721627_713962522530575827_n.jpg
END:VEVENT
BEGIN:VEVENT
DTSTART;TZID=America/Chicago:20260214T180000
DTEND;TZID=America/Chicago:20260214T210000
DTSTAMP:20260420T210651
CREATED:20260122T104652Z
LAST-MODIFIED:20260214T104212Z
UID:567-1771092000-1771102800@dailyobjectivedistillery.com
SUMMARY:Valentine's Day at DOD! | Markus Robins | LIVE MUSIC | Saturday\, February 14
DESCRIPTION:Celebrate Valentine’s Day at DOD with love\, art\, and great drinks! Our tasting room is open from 1 PM to 10 PM\, featuring distillery tours led by our distiller Steve\, a unique space that doubles as an art gallery\, and special Valentine’s Day drinks and cocktail flights. Enjoy live music from Markus Robins from 6 PM to 9 PM and delicious bites from the Gringos Cubanos food truck. We’re also part of a day-long collaboration with Flyover State Coffee and Rustic Rebel\, a local Amsterdam business—start your day at their shop in the morning and stop by DOD later for drinks\, music\, and good vibes.
URL:https://dailyobjectivedistillery.com/event/valentines-day-at-dod-markus-robins-live-music-saturday-february-14/
LOCATION:14215 NW State Route J\, Amsterdam\, MO\, United States\, Missouri 64723
ATTACH;FMTTYPE=image/jpeg:https://dailyobjectivedistillery.com/wp-content/uploads/2026/01/567_image_618838598_122153181662721627_6591944650063853482_n.jpg
END:VEVENT
BEGIN:VEVENT
DTSTART;TZID=America/Chicago:20260213T180000
DTEND;TZID=America/Chicago:20260213T210000
DTSTAMP:20260420T210651
CREATED:20260122T104652Z
LAST-MODIFIED:20260213T111249Z
UID:569-1771005600-1771016400@dailyobjectivedistillery.com
SUMMARY:Tony Alvarez | LIVE MUSIC at Daily Objective Distillery | Friday\, February 13
DESCRIPTION:Craving a night of classic hits\, pop\, and rock? Tony Alvarez brings 20+ years of Midwest performance experience to Daily Objective Distillery on Friday \, February 13\, from 6pm–9pm. Solo acoustic\, full of nostalgia and good vibes\, with Ravioli’s Pasta 2Go on site\, craft cocktails\, and special Valentine’s Day drinks to make it a complete night out. The tasting room is open from 4pm–10pm\, family- and pet-friendly\, with great views and good people—come for the music\, stay for the cocktails.
URL:https://dailyobjectivedistillery.com/event/tony-alvarez-live-music-at-daily-objective-distillery-friday-february-13/
LOCATION:14215 NW State Route J\, Amsterdam\, MO\, United States\, Missouri 64723
ATTACH;FMTTYPE=image/jpeg:https://dailyobjectivedistillery.com/wp-content/uploads/2026/01/569_image_618882926_122153180708721627_3182741342997375919_n.jpg
END:VEVENT
BEGIN:VEVENT
DTSTART;TZID=America/Chicago:20260212T180000
DTEND;TZID=America/Chicago:20260212T210000
DTSTAMP:20260420T210651
CREATED:20260122T104653Z
LAST-MODIFIED:20260212T110530Z
UID:571-1770919200-1770930000@dailyobjectivedistillery.com
SUMMARY:Micah Burdick | LIVE MUSIC at Daily Objective Distillery | Thursday\, February 12
DESCRIPTION:Live music from Musicbymicah hits Daily Objective Distillery Thursday\, February 12\, from 6pm–9pm. The tasting room is open 4pm–10pm with Taco Fuego on site\, craft cocktails\, and distillery tours available. Classics\, modern hits\, great drinks\, and good people—come enjoy the night in Amsterdam\, MO.
URL:https://dailyobjectivedistillery.com/event/micah-burdick-live-music-at-daily-objective-distillery-thursday-february-12/
LOCATION:14215 NW State Route J\, Amsterdam\, MO\, United States\, Missouri 64723
ATTACH;FMTTYPE=image/jpeg:https://dailyobjectivedistillery.com/wp-content/uploads/2026/01/571_image_618702614_122153179760721627_7264227918191920979_n.jpg
END:VEVENT
BEGIN:VEVENT
DTSTART;TZID=America/Chicago:20260207T180000
DTEND;TZID=America/Chicago:20260207T210000
DTSTAMP:20260420T210651
CREATED:20260122T104654Z
LAST-MODIFIED:20260207T112121Z
UID:573-1770487200-1770498000@dailyobjectivedistillery.com
SUMMARY:Savanna Chestnut | LIVE MUSIC at Daily Objective Distillery | Saturday\, February 7
DESCRIPTION:Spend your Saturday\, February 7\, at Daily Objective Distillery with live music from Savanna Chestnut from 6pm–9pm. We’re open from 1pm to 10pm with Taco Fuego food truck on site for dinner\, craft cocktails in the tasting room\, and the opportunity to meet our distillers or take a tour of our batch distillery! \nSavanna Chestnut is a Kansas-based artist known for her homespun songwriting style rooted in classic country\, touring the Midwest as both a solo act and with her band\, and having shared the stage with artists like Eli Young Band\, Tanya Tucker\, Ned Ledoux\, Sunny Sweeney\, and more\, including a feature on Season 20 of NBC’s The Voice. Family- and pet-friendly\, great views\, and good people—find us in Amsterdam\, MO.
URL:https://dailyobjectivedistillery.com/event/savannah-chestnut-live-music-at-daily-objective-distillery-saturday-february-3/
LOCATION:14215 NW State Route J\, Amsterdam\, MO\, United States\, Missouri 64723
ATTACH;FMTTYPE=image/jpeg:https://dailyobjectivedistillery.com/wp-content/uploads/2026/01/573_image_625489020_122154164492721627_6972935536557954091_n.jpg
END:VEVENT
BEGIN:VEVENT
DTSTART;TZID=America/Chicago:20260206T180000
DTEND;TZID=America/Chicago:20260206T210000
DTSTAMP:20260420T210651
CREATED:20260122T104655Z
LAST-MODIFIED:20260206T104824Z
UID:575-1770400800-1770411600@dailyobjectivedistillery.com
SUMMARY:Cade Polsgrove | LIVE MUSIC at Daily Objective Distillery | Friday\, February 6
DESCRIPTION:Join us Friday\, February 6\, at Daily Objective Distillery for live music from Cade Polsgrove\, a singer\, songwriter\, and guitarist playing a solid mix of country\, blues\, and acoustic classic rock. The tasting room is open from 4pm to 10pm with live music from 6pm–9pm\, craft cocktails behind the bar\, and Ravioli’s Pasta 2Go food truck on site serving up crowd favorites. Enjoy great views\, good people\, and a relaxed\, family- and pet-friendly atmosphere at our distillery in Amsterdam\, MO—come for the music\, stay for the cocktails.
URL:https://dailyobjectivedistillery.com/event/cade-polsgrove-live-music-at-daily-objective-distillery-friday-february-6/
LOCATION:14215 NW State Route J\, Amsterdam\, MO\, United States\, Missouri 64723
ATTACH;FMTTYPE=image/jpeg:https://dailyobjectivedistillery.com/wp-content/uploads/2026/01/575_image_617017755_122153177372721627_1912831129358586194_n.jpg
END:VEVENT
BEGIN:VEVENT
DTSTART;TZID=America/Chicago:20260205T180000
DTEND;TZID=America/Chicago:20260205T210000
DTSTAMP:20260420T210651
CREATED:20260122T104655Z
LAST-MODIFIED:20260205T110508Z
UID:577-1770314400-1770325200@dailyobjectivedistillery.com
SUMMARY:Nick Nave | LIVE MUSIC at Daily Objective Distillery | Thursday\, February 5
DESCRIPTION:If you’re looking for a solid place to spend your Thursday night\, Daily Objective Distillery has you covered. Nick Nave brings live music from 6pm–9pm\, the tasting room stays open from 4pm to 10pm\, and Mac Daddy food truck will be parked and ready. We’ve got strong drinks\, special Valentine’s cocktails\, good views\, and room for the whole crew. Find us in Amsterdam\, MO\, with live music every Thursday\, Friday\, and Saturday.
URL:https://dailyobjectivedistillery.com/event/nick-nave-live-music-at-daily-objective-distillery-thursday-february-5/
LOCATION:14215 NW State Route J\, Amsterdam\, MO\, United States\, Missouri 64723
ATTACH;FMTTYPE=image/jpeg:https://dailyobjectivedistillery.com/wp-content/uploads/2026/01/577_image_619666153_122153176418721627_2983296844273621852_n.jpg
END:VEVENT
BEGIN:VEVENT
DTSTART;TZID=America/Chicago:20260131T180000
DTEND;TZID=America/Chicago:20260131T210000
DTSTAMP:20260420T210651
CREATED:20260113T100505Z
LAST-MODIFIED:20260131T105649Z
UID:501-1769882400-1769893200@dailyobjectivedistillery.com
SUMMARY:Greg Jacobson | LIVE MUSIC at Daily Objective Distillery | Saturday\, January 31\, 2026
DESCRIPTION:Cocktails • Music • Food • Good People • Great Views \n⭐️ Live music from 6pm to 9pm\n⭐️ Family & Pet Friendly Facility\n⭐️ Food Truck On-Site\n⭐️ Craft cocktails in our tasting room\n⭐️ Meet our distillers! \nI grew up east of Kansas City. When we always sang in church. My grandparents had a gospel group that would travel around so anytime we were together as a whole family we were singing. Started writing music in about the 7th grade and really started playing those in front of people around sophomore yr in high school. Since then I’ve done a lot of things\, Worked a lot of different jobs but singing and playing music has been one of the strongest constants in my life. Just a part of what i do now. A mix of blues\, rock\, folk\, alt\, R&B among others is the general mix you’ll hear coming from me. Along with writing and playing out I’m also a self produced artist. Everything I have on Spotify I wrote record and produced myself. I’ve been releasing music since 2021 and don’t plan to stop anytime soon.
URL:https://dailyobjectivedistillery.com/event/greg-jacobson-live-at-daily-objective-distillery-saturday-january-31-2026/
LOCATION:14215 NW State Route J\, Amsterdam\, MO\, United States\, Missouri 64723
ATTACH;FMTTYPE=image/jpeg:https://dailyobjectivedistillery.com/wp-content/uploads/2026/01/501_image_614651252_122152441388721627_3863605656793687662_n.jpg
END:VEVENT
BEGIN:VEVENT
DTSTART;TZID=America/Chicago:20260130T180000
DTEND;TZID=America/Chicago:20260130T210000
DTSTAMP:20260420T210651
CREATED:20260113T100510Z
LAST-MODIFIED:20260130T110024Z
UID:509-1769796000-1769806800@dailyobjectivedistillery.com
SUMMARY:The Smokin' J's | LIVE MUSIC at Daily Objective Distillery | Friday\, January 30\, 2026
DESCRIPTION:Cocktails • Music • Food • Good People • Great Views \n⭐️ Live music from 6pm to 9pm\n⭐️ Family & Pet Friendly Facility\n⭐️ Food Truck On-Site\n⭐️ Craft cocktails in our tasting room\n⭐️ Meet our distillers!
URL:https://dailyobjectivedistillery.com/event/the-smokin-js-live-at-daily-objective-distillery-friday-january-30-2026/
LOCATION:14215 NW State Route J\, Amsterdam\, MO\, United States\, Missouri 64723
ATTACH;FMTTYPE=image/jpeg:https://dailyobjectivedistillery.com/wp-content/uploads/2026/01/509_image_615289280_122152441160721627_7352437761149401941_n.jpg
END:VEVENT
BEGIN:VEVENT
DTSTART;TZID=America/Chicago:20260129T180000
DTEND;TZID=America/Chicago:20260129T210000
DTSTAMP:20260420T210651
CREATED:20260113T100504Z
LAST-MODIFIED:20260129T104206Z
UID:499-1769709600-1769720400@dailyobjectivedistillery.com
SUMMARY:Chris Stewart | LIVE MUSIC at Daily Objective Distillery | Thursday January 29\, 2026
DESCRIPTION:Chris Stewart takes the stage live at Daily Objective Distillery\, serving up an evening of cocktails\, music\, food\, good people\, and great views. Enjoy live music from 6pm–9pm alongside craft cocktails in our tasting room\, a food truck on site\, and distillery tours available throughout the evening.
URL:https://dailyobjectivedistillery.com/event/chris-stewart-live-at-daily-objective-distillery-thursday-january-29-2026/
LOCATION:14215 NW State Route J\, Amsterdam\, MO\, United States\, Missouri 64723
ATTACH;FMTTYPE=image/jpeg:https://dailyobjectivedistillery.com/wp-content/uploads/2026/01/499_image_615495230_122152440968721627_8636427629702692195_n.jpg
END:VEVENT
BEGIN:VEVENT
DTSTART;TZID=America/Chicago:20260124T180000
DTEND;TZID=America/Chicago:20260124T210000
DTSTAMP:20260420T210651
CREATED:20260113T100509Z
LAST-MODIFIED:20260123T110920Z
UID:507-1769277600-1769288400@dailyobjectivedistillery.com
SUMMARY:David Marshall | LIVE MUSIC at Daily Objective Distillery | Saturday\, January 24\, 2026
DESCRIPTION:David Marshall Live at Daily Objective Distillery! \nJoin us for a night of music\, cocktails\, and good vibes as David Marshall\, singer/songwriter and multi-instrumentalist from Kansas\, takes the stage. With 20+ years of coast-to-coast performing and opening for artists like Eric Church\, Dustin Lynch\, and Pat Green\, David’s songs—both originals and crowd favorites—will leave you smiling and singing along! \nCocktails • Music • Food • Good People • Great Views \n⭐️ Live music 6pm–9pm\n⭐️ Family & pet-friendly facility\n⭐️ Food truck on-site\n⭐️ Craft cocktails in our tasting room\n⭐️ Distillery tours available \n📍 Daily Objective Distillery | Amsterdam\, MO
URL:https://dailyobjectivedistillery.com/event/david-marshall-live-at-daily-objective-distillery-saturday-january-24-2026/
LOCATION:14215 NW State Route J\, Amsterdam\, MO\, United States\, Missouri 64723
ATTACH;FMTTYPE=image/jpeg:https://dailyobjectivedistillery.com/wp-content/uploads/2026/01/507_image_615400011_122152440740721627_9111283110859640943_n.jpg
END:VEVENT
BEGIN:VEVENT
DTSTART;TZID=America/Chicago:20260123T180000
DTEND;TZID=America/Chicago:20260123T210000
DTSTAMP:20260420T210651
CREATED:20260113T100503Z
LAST-MODIFIED:20260123T110920Z
UID:497-1769191200-1769202000@dailyobjectivedistillery.com
SUMMARY:Mendon Hale | LIVE MUSIC at Daily Objective Distillery | Friday\, January 23\, 2026
DESCRIPTION:Mendon Hale Live at Daily Objective Distillery 🍸 \nMissouri-native Mendon Hale brings his country sound to the distillery for a night of live music\, craft cocktails\, and good company. \n⭐️ Live music 6–9pm\n⭐️ Food truck on-site\n⭐️ Family & pet-friendly\n⭐️ Distillery tours available\n📍 Amsterdam\, MO
URL:https://dailyobjectivedistillery.com/event/mendon-hale-live-at-daily-objective-distillery-friday-january-23-2026/
LOCATION:14215 NW State Route J\, Amsterdam\, MO\, United States\, Missouri 64723
ATTACH;FMTTYPE=image/jpeg:https://dailyobjectivedistillery.com/wp-content/uploads/2026/01/497_image_615801499_122152440386721627_5912477246018091529_n.jpg
END:VEVENT
BEGIN:VEVENT
DTSTART;TZID=America/Chicago:20260122T180000
DTEND;TZID=America/Chicago:20260122T210000
DTSTAMP:20260420T210651
CREATED:20260113T100508Z
LAST-MODIFIED:20260122T104656Z
UID:505-1769104800-1769115600@dailyobjectivedistillery.com
SUMMARY:Rusty Laffoon LIVE at Daily Objective Distillery | Thursday\, January 22\, 2026
DESCRIPTION:Cocktails • Music • Food • Good People • Great Views \n⭐️ Live music from 6pm to 9pm\n⭐️ Family & Pet Friendly Facility\n⭐️ Food Truck On-Site\n⭐️ Craft cocktails in our tasting room\n⭐️ Thirsty Thursday!  \nRusty Laffoon is a vocally versatile acoustic artist whose performances are notable for genre-hopping between Country\, Rock\, Blues\, Motown\, Pop\, and more! Sing along to Merle before belting out Whitesnake at the next show! \nRusty has been performing in the Kansas City area and throughout the Midwest since the early 2000’s\, previously fronting bands that opened for Travis Tritt\, Sawyer Brown\, Los Lobos\, Jo Dee Messina\, Dylan Scott\, Drake White\, and more! \nNo matter your musical tastes\, Rusty’s acoustic performances will bring a smile to your face and have you singing along before the show ends.
URL:https://dailyobjectivedistillery.com/event/rusty-laffoon-live-at-daily-objective-distillery-thursday-january-22-2026/
LOCATION:14215 NW State Route J\, Amsterdam\, MO\, United States\, Missouri 64723
ATTACH;FMTTYPE=image/jpeg:https://dailyobjectivedistillery.com/wp-content/uploads/2026/01/505_image_615895740_122152440206721627_2923411060537967585_n.jpg
END:VEVENT
BEGIN:VEVENT
DTSTART;TZID=America/Chicago:20260117T180000
DTEND;TZID=America/Chicago:20260117T210000
DTSTAMP:20260420T210651
CREATED:20260113T100502Z
LAST-MODIFIED:20260113T100502Z
UID:495-1768672800-1768683600@dailyobjectivedistillery.com
SUMMARY:Mikey Needleman (Solo Show) LIVE at Daily Objective Distillery | Saturday\, January 17\, 2026
DESCRIPTION:Cocktails • Music • Food • Good People • Great Views \n⭐️ Live music from 6pm to 9pm\n⭐️ Family & Pet Friendly Facility\n⭐️ Food Truck On-Site\n⭐️ Craft cocktails in our tasting room\n⭐️ Meet our distillers! \nEngaging\, Upbeat\, Entertaining with music spanning over 7 decades \nMikey Needleman Band plays the perfect blend of sing-along cover songs and catchy originals. Over the past 10 years\, MNB has learned how to draw a crowd\, how to keep a crowd and how to build up your venue’s repeat business. \nMNB plays well over 100 shows a year\, which is a testament to their work ethic and success in the industry. With competitive booking prices\, you’ll get one of the midwest’s most entertaining\, upbeat\, professional bands for a steal! \nMNB can provide all professional sound needs as well as lighting needs for your venue.
URL:https://dailyobjectivedistillery.com/event/mikey-needleman-solo-show-live-at-daily-objective-distillery-saturday-january-17-2026/
LOCATION:14215 NW State Route J\, Amsterdam\, MO\, United States\, Missouri 64723
ATTACH;FMTTYPE=image/jpeg:https://dailyobjectivedistillery.com/wp-content/uploads/2026/01/495_image_611956606_122151707786721627_2040128470976614506_n.jpg
END:VEVENT
BEGIN:VEVENT
DTSTART;TZID=America/Chicago:20260116T180000
DTEND;TZID=America/Chicago:20260116T210000
DTSTAMP:20260420T210651
CREATED:20260113T100507Z
LAST-MODIFIED:20260113T100507Z
UID:503-1768586400-1768597200@dailyobjectivedistillery.com
SUMMARY:Nick Nave LIVE at Daily Objective Distillery | Friday\, January 16\, 2026
DESCRIPTION:Cocktails • Music • Food • Good People • Great Views \n⭐️ Live music from 6pm to 9pm\n⭐️ Family & Pet Friendly Facility\n⭐️ Food Truck On-Site\n⭐️ Craft cocktails in our tasting room\n⭐️ Meet our distillers! \nThe Nick Nave Band provides the dance music and the enjoyable atmosphere of a fun and laid back evening. Frontman Nick Nave knows how to put a crowd at ease and the rock solid band and melodic guitars keep the energy high and fun! Expect a good time with the Nick Nave Band!
URL:https://dailyobjectivedistillery.com/event/nick-nave-live-at-daily-objective-distillery-friday-january-16-2026/
LOCATION:14215 NW State Route J\, Amsterdam\, MO\, United States\, Missouri 64723
ATTACH;FMTTYPE=image/jpeg:https://dailyobjectivedistillery.com/wp-content/uploads/2026/01/503_image_612033512_122151707606721627_1771349611086367326_n.jpg
END:VEVENT
BEGIN:VEVENT
DTSTART;TZID=America/Chicago:20260115T180000
DTEND;TZID=America/Chicago:20260115T210000
DTSTAMP:20260420T210651
CREATED:20260113T100501Z
LAST-MODIFIED:20260113T100501Z
UID:492-1768500000-1768510800@dailyobjectivedistillery.com
SUMMARY:Luke Hupp LIVE at Daily Objective Distillery | Thursday\, January 15\, 2026
DESCRIPTION:Cocktails • Music • Food • Good People • Great Views \n⭐️ Live music from 6pm to 9pm\n⭐️ Family & Pet Friendly Facility\n⭐️ Food Truck On-Site\n⭐️ Craft cocktails in our tasting room
URL:https://dailyobjectivedistillery.com/event/luke-hupp-live-at-daily-objective-distillery-thursday-january-15-2026/
LOCATION:14215 NW State Route J\, Amsterdam\, MO\, United States\, Missouri 64723
ATTACH;FMTTYPE=image/jpeg:https://dailyobjectivedistillery.com/wp-content/uploads/2026/01/492_image_612038526_122151707330721627_4306534940087143717_n.jpg
END:VEVENT
END:VCALENDAR