BEGIN:VCALENDAR
VERSION:2.0
PRODID:-//Daily Objective Distillery - ECPv6.15.20//NONSGML v1.0//EN
CALSCALE:GREGORIAN
METHOD:PUBLISH
X-WR-CALNAME:Daily Objective Distillery
X-ORIGINAL-URL:https://dailyobjectivedistillery.com
X-WR-CALDESC:Events for Daily Objective Distillery
REFRESH-INTERVAL;VALUE=DURATION:PT1H
X-Robots-Tag:noindex
X-PUBLISHED-TTL:PT1H
BEGIN:VTIMEZONE
TZID:America/Chicago
BEGIN:DAYLIGHT
TZOFFSETFROM:-0600
TZOFFSETTO:-0500
TZNAME:CDT
DTSTART:20250309T080000
END:DAYLIGHT
BEGIN:STANDARD
TZOFFSETFROM:-0500
TZOFFSETTO:-0600
TZNAME:CST
DTSTART:20251102T070000
END:STANDARD
BEGIN:DAYLIGHT
TZOFFSETFROM:-0600
TZOFFSETTO:-0500
TZNAME:CDT
DTSTART:20260308T080000
END:DAYLIGHT
BEGIN:STANDARD
TZOFFSETFROM:-0500
TZOFFSETTO:-0600
TZNAME:CST
DTSTART:20261101T070000
END:STANDARD
BEGIN:DAYLIGHT
TZOFFSETFROM:-0600
TZOFFSETTO:-0500
TZNAME:CDT
DTSTART:20270314T080000
END:DAYLIGHT
BEGIN:STANDARD
TZOFFSETFROM:-0500
TZOFFSETTO:-0600
TZNAME:CST
DTSTART:20271107T070000
END:STANDARD
END:VTIMEZONE
BEGIN:VEVENT
DTSTART;TZID=America/Chicago:20260510T150000
DTEND;TZID=America/Chicago:20260510T180000
DTSTAMP:20260423T091851
CREATED:20260422T104145Z
LAST-MODIFIED:20260422T104145Z
UID:971-1778425200-1778436000@dailyobjectivedistillery.com
SUMMARY:Mother's Day at DOD! | Mikey Needleman | LIVE MUSIC | Sunday\, May 10
DESCRIPTION:We are now open on Sundays (again!). Starting Mother’s Day 2026\, we will be open on Sundays from 12pm to 6pm. Get ready for an entertaining day at Daily Objective Distillery as the Mikey Needleman Band (a solo show with Mikey!) brings over seven decades of music\, from sing-along covers to catchy originals that will keep the energy high and the crowd moving!
URL:https://dailyobjectivedistillery.com/event/mothers-day-at-dod-mikey-needleman-live-music-sunday-may-10/
LOCATION:14215 NW State Route J\, Amsterdam\, MO\, United States\, Missouri 64723
ATTACH;FMTTYPE=image/jpeg:https://dailyobjectivedistillery.com/wp-content/uploads/2026/04/971_image_676925068_122161139222721627_5471314821617735827_n.jpg
END:VEVENT
END:VCALENDAR