BEGIN:VCALENDAR
VERSION:2.0
PRODID:-//Daily Objective Distillery - ECPv6.15.20//NONSGML v1.0//EN
CALSCALE:GREGORIAN
METHOD:PUBLISH
X-WR-CALNAME:Daily Objective Distillery
X-ORIGINAL-URL:https://dailyobjectivedistillery.com
X-WR-CALDESC:Events for Daily Objective Distillery
REFRESH-INTERVAL;VALUE=DURATION:PT1H
X-Robots-Tag:noindex
X-PUBLISHED-TTL:PT1H
BEGIN:VTIMEZONE
TZID:America/Chicago
BEGIN:DAYLIGHT
TZOFFSETFROM:-0600
TZOFFSETTO:-0500
TZNAME:CDT
DTSTART:20250309T080000
END:DAYLIGHT
BEGIN:STANDARD
TZOFFSETFROM:-0500
TZOFFSETTO:-0600
TZNAME:CST
DTSTART:20251102T070000
END:STANDARD
BEGIN:DAYLIGHT
TZOFFSETFROM:-0600
TZOFFSETTO:-0500
TZNAME:CDT
DTSTART:20260308T080000
END:DAYLIGHT
BEGIN:STANDARD
TZOFFSETFROM:-0500
TZOFFSETTO:-0600
TZNAME:CST
DTSTART:20261101T070000
END:STANDARD
BEGIN:DAYLIGHT
TZOFFSETFROM:-0600
TZOFFSETTO:-0500
TZNAME:CDT
DTSTART:20270314T080000
END:DAYLIGHT
BEGIN:STANDARD
TZOFFSETFROM:-0500
TZOFFSETTO:-0600
TZNAME:CST
DTSTART:20271107T070000
END:STANDARD
END:VTIMEZONE
BEGIN:VEVENT
DTSTART;TZID=America/Chicago:20260423T180000
DTEND;TZID=America/Chicago:20260423T210000
DTSTAMP:20260420T075030
CREATED:20260331T160251Z
LAST-MODIFIED:20260419T104054Z
UID:882-1776967200-1776978000@dailyobjectivedistillery.com
SUMMARY:Ryan Lynch | LIVE at Daily Objective Distillery | Thursday\, April 23
DESCRIPTION:Join us with Ryan Lynch on April 23 as Ryan heads out to DOD for an evening of great music. Food truck for this night is Mac Daddy!  \nMark your calendar and come enjoy a night of live music done right.
URL:https://dailyobjectivedistillery.com/event/ryan-lynch-live-at-daily-objective-distillery-thursday-april-23/
LOCATION:14215 NW State Route J\, Amsterdam\, MO\, United States\, Missouri 64723
ATTACH;FMTTYPE=image/jpeg:https://dailyobjectivedistillery.com/wp-content/uploads/2026/03/882_image_658445746_122159157392721627_7228980353876179157_n.jpg
END:VEVENT
BEGIN:VEVENT
DTSTART;TZID=America/Chicago:20260424T180000
DTEND;TZID=America/Chicago:20260424T210000
DTSTAMP:20260420T075030
CREATED:20260331T160250Z
LAST-MODIFIED:20260419T104053Z
UID:880-1777053600-1777064400@dailyobjectivedistillery.com
SUMMARY:Greg Jacobson | LIVE MUSIC at Daily Objective Distillery | Friday\, April 24
DESCRIPTION:Gather the crew and head over to DOD for a night that hits all the right notes. We’re kicking things off in the tasting room at 4pm\, with Gringos Cubanos serving up incredible food starting at 5pm. From 6 to 9pm\, we are thrilled to host Greg Jacobson for a live set on the patio. Growing up east of Kansas City and rooted in a family gospel tradition\, Greg brings a soulful\, self-produced sound that blends blues\, rock\, folk\, and R&B. Whether you’re here for the craft cocktails\, the great views\, or a chance to meet our distillers\, it’s the perfect family and pet-friendly environment to unwind. We’ll be pouring drinks and enjoying the music until 10pm—come through for the cocktails\, the food\, and the good people.
URL:https://dailyobjectivedistillery.com/event/greg-jacobson-live-music-at-daily-objective-distillery-friday-april-24/
LOCATION:14215 NW State Route J\, Amsterdam\, MO\, United States\, Missouri 64723
ATTACH;FMTTYPE=image/jpeg:https://dailyobjectivedistillery.com/wp-content/uploads/2026/03/880_image_659688294_122159157608721627_3353630456521168339_n.jpg
END:VEVENT
BEGIN:VEVENT
DTSTART;TZID=America/Chicago:20260425T150000
DTEND;TZID=America/Chicago:20260425T150000
DTSTAMP:20260420T075030
CREATED:20260225T105118Z
LAST-MODIFIED:20260419T104053Z
UID:774-1777129200-1777129200@dailyobjectivedistillery.com
SUMMARY:Logan Mize Glenn's Last Ride Acoustic Tour 2026 | LIVE MUSIC at Daily Objective Distillery
DESCRIPTION:This is a ticketed event. Doors open at 3pm. Logan Mize Glenn’s Last Ride Acoustic Tour 2026 Stop at Daily Objective DIstillery.  \nBuy Tickets: https://tickets.loganmize.com/event/glenns-last-ride-acoustic-tour-daily-objective-d-8fr7gm
URL:https://dailyobjectivedistillery.com/event/logan-mize-glenns-last-ride-acoustic-tour-2026-live-music-at-daily-objective-distillery/
LOCATION:14215 NW State Route J\, Amsterdam\, MO\, United States\, Missouri 64723
ATTACH;FMTTYPE=image/jpeg:https://dailyobjectivedistillery.com/wp-content/uploads/2026/02/774_image_641660010_122156214974721627_6723773956737870353_n.jpg
END:VEVENT
BEGIN:VEVENT
DTSTART;TZID=America/Chicago:20260430T180000
DTEND;TZID=America/Chicago:20260430T210000
DTSTAMP:20260420T075030
CREATED:20260331T160249Z
LAST-MODIFIED:20260419T104053Z
UID:878-1777572000-1777582800@dailyobjectivedistillery.com
SUMMARY:Lindsay Blacksher | LIVE MUSIC at Daily Objective Distillery | Friday\, April 24
DESCRIPTION:Make it a mid-week escape to Daily Objective Distillery on Thursday\, April 30th\, for an evening of great vibes and even better company. Our tasting room opens at 4pm to get the spirits flowing\, followed by the Mac Daddy food truck serving up their legendary comfort food starting at 5pm. From 6 to 9pm\, we’re excited to welcome Lindsay Blacksher to the stage. Known for her powerhouse vocals and a versatile style that spans decades of rock\, pop\, and country\, Lindsay brings a high-energy performance that’s perfect for a night out.
URL:https://dailyobjectivedistillery.com/event/lindsay-blacksher-live-music-at-daily-objective-distillery-friday-april-24/
LOCATION:14215 NW State Route J\, Amsterdam\, MO\, United States\, Missouri 64723
ATTACH;FMTTYPE=image/jpeg:https://dailyobjectivedistillery.com/wp-content/uploads/2026/03/878_image_660528246_122159158136721627_2277391132885108026_n.jpg
END:VEVENT
END:VCALENDAR