BEGIN:VCALENDAR
VERSION:2.0
PRODID:-//Daily Objective Distillery - ECPv6.15.20//NONSGML v1.0//EN
CALSCALE:GREGORIAN
METHOD:PUBLISH
X-ORIGINAL-URL:https://dailyobjectivedistillery.com
X-WR-CALDESC:Events for Daily Objective Distillery
REFRESH-INTERVAL;VALUE=DURATION:PT1H
X-Robots-Tag:noindex
X-PUBLISHED-TTL:PT1H
BEGIN:VTIMEZONE
TZID:America/Chicago
BEGIN:DAYLIGHT
TZOFFSETFROM:-0600
TZOFFSETTO:-0500
TZNAME:CDT
DTSTART:20250309T080000
END:DAYLIGHT
BEGIN:STANDARD
TZOFFSETFROM:-0500
TZOFFSETTO:-0600
TZNAME:CST
DTSTART:20251102T070000
END:STANDARD
BEGIN:DAYLIGHT
TZOFFSETFROM:-0600
TZOFFSETTO:-0500
TZNAME:CDT
DTSTART:20260308T080000
END:DAYLIGHT
BEGIN:STANDARD
TZOFFSETFROM:-0500
TZOFFSETTO:-0600
TZNAME:CST
DTSTART:20261101T070000
END:STANDARD
BEGIN:DAYLIGHT
TZOFFSETFROM:-0600
TZOFFSETTO:-0500
TZNAME:CDT
DTSTART:20270314T080000
END:DAYLIGHT
BEGIN:STANDARD
TZOFFSETFROM:-0500
TZOFFSETTO:-0600
TZNAME:CST
DTSTART:20271107T070000
END:STANDARD
END:VTIMEZONE
BEGIN:VEVENT
DTSTART;TZID=America/Chicago:20260425T150000
DTEND;TZID=America/Chicago:20260425T150000
DTSTAMP:20260420T160715
CREATED:20260225T105118Z
LAST-MODIFIED:20260420T104108Z
UID:774-1777129200-1777129200@dailyobjectivedistillery.com
SUMMARY:Logan Mize Glenn's Last Ride Acoustic Tour 2026 | LIVE MUSIC at Daily Objective Distillery
DESCRIPTION:This is a ticketed event. Doors open at 3pm. Logan Mize Glenn’s Last Ride Acoustic Tour 2026 Stop at Daily Objective DIstillery.  \nBuy Tickets: https://tickets.loganmize.com/event/glenns-last-ride-acoustic-tour-daily-objective-d-8fr7gm
URL:https://dailyobjectivedistillery.com/event/logan-mize-glenns-last-ride-acoustic-tour-2026-live-music-at-daily-objective-distillery/
LOCATION:14215 NW State Route J\, Amsterdam\, MO\, United States\, Missouri 64723
ATTACH;FMTTYPE=image/jpeg:https://dailyobjectivedistillery.com/wp-content/uploads/2026/02/774_image_641660010_122156214974721627_6723773956737870353_n.jpg
END:VEVENT
END:VCALENDAR