BEGIN:VCALENDAR
VERSION:2.0
PRODID:-//Daily Objective Distillery - ECPv6.15.20//NONSGML v1.0//EN
CALSCALE:GREGORIAN
METHOD:PUBLISH
X-WR-CALNAME:Daily Objective Distillery
X-ORIGINAL-URL:https://dailyobjectivedistillery.com
X-WR-CALDESC:Events for Daily Objective Distillery
REFRESH-INTERVAL;VALUE=DURATION:PT1H
X-Robots-Tag:noindex
X-PUBLISHED-TTL:PT1H
BEGIN:VTIMEZONE
TZID:America/Chicago
BEGIN:DAYLIGHT
TZOFFSETFROM:-0600
TZOFFSETTO:-0500
TZNAME:CDT
DTSTART:20250309T080000
END:DAYLIGHT
BEGIN:STANDARD
TZOFFSETFROM:-0500
TZOFFSETTO:-0600
TZNAME:CST
DTSTART:20251102T070000
END:STANDARD
BEGIN:DAYLIGHT
TZOFFSETFROM:-0600
TZOFFSETTO:-0500
TZNAME:CDT
DTSTART:20260308T080000
END:DAYLIGHT
BEGIN:STANDARD
TZOFFSETFROM:-0500
TZOFFSETTO:-0600
TZNAME:CST
DTSTART:20261101T070000
END:STANDARD
BEGIN:DAYLIGHT
TZOFFSETFROM:-0600
TZOFFSETTO:-0500
TZNAME:CDT
DTSTART:20270314T080000
END:DAYLIGHT
BEGIN:STANDARD
TZOFFSETFROM:-0500
TZOFFSETTO:-0600
TZNAME:CST
DTSTART:20271107T070000
END:STANDARD
END:VTIMEZONE
BEGIN:VEVENT
DTSTART;TZID=America/Chicago:20260417T180000
DTEND;TZID=America/Chicago:20260417T210000
DTSTAMP:20260420T141059
CREATED:20260331T160253Z
LAST-MODIFIED:20260417T104056Z
UID:886-1776448800-1776459600@dailyobjectivedistillery.com
SUMMARY:The Smokin' J's | LIVE MUSIC at Daily Objective Distillery | Friday\, April 17
DESCRIPTION:Cocktails\, music\, and the best views in Amsterdam! Grab your favorite people (and your pets!) and head to Daily Objective Distillery on Saturday\, March 7\, for a full day of fun. We’ve got The Smokin’ Js bringing their high-energy hits to the stage from 6pm–9pm\, and the Ravioli’s Pasta 2Go food truck on-site all evening to keep you fueled. See you Saturday for great drinks and even better company.
URL:https://dailyobjectivedistillery.com/event/the-smokin-js-live-music-at-daily-objective-distillery-friday-april-17/
LOCATION:14215 NW State Route J\, Amsterdam\, MO\, United States\, Missouri 64723
ATTACH;FMTTYPE=image/jpeg:https://dailyobjectivedistillery.com/wp-content/uploads/2026/03/886_image_658398408_122159157110721627_4582655309471113566_n.jpg
END:VEVENT
END:VCALENDAR