BEGIN:VCALENDAR
VERSION:2.0
PRODID:-//Daily Objective Distillery - ECPv6.15.20//NONSGML v1.0//EN
CALSCALE:GREGORIAN
METHOD:PUBLISH
X-ORIGINAL-URL:https://dailyobjectivedistillery.com
X-WR-CALDESC:Events for Daily Objective Distillery
REFRESH-INTERVAL;VALUE=DURATION:PT1H
X-Robots-Tag:noindex
X-PUBLISHED-TTL:PT1H
BEGIN:VTIMEZONE
TZID:America/Chicago
BEGIN:DAYLIGHT
TZOFFSETFROM:-0600
TZOFFSETTO:-0500
TZNAME:CDT
DTSTART:20250309T080000
END:DAYLIGHT
BEGIN:STANDARD
TZOFFSETFROM:-0500
TZOFFSETTO:-0600
TZNAME:CST
DTSTART:20251102T070000
END:STANDARD
BEGIN:DAYLIGHT
TZOFFSETFROM:-0600
TZOFFSETTO:-0500
TZNAME:CDT
DTSTART:20260308T080000
END:DAYLIGHT
BEGIN:STANDARD
TZOFFSETFROM:-0500
TZOFFSETTO:-0600
TZNAME:CST
DTSTART:20261101T070000
END:STANDARD
BEGIN:DAYLIGHT
TZOFFSETFROM:-0600
TZOFFSETTO:-0500
TZNAME:CDT
DTSTART:20270314T080000
END:DAYLIGHT
BEGIN:STANDARD
TZOFFSETFROM:-0500
TZOFFSETTO:-0600
TZNAME:CST
DTSTART:20271107T070000
END:STANDARD
END:VTIMEZONE
BEGIN:VEVENT
DTSTART;TZID=America/Chicago:20260404T180000
DTEND;TZID=America/Chicago:20260404T210000
DTSTAMP:20260420T142741
CREATED:20260303T104316Z
LAST-MODIFIED:20260404T104118Z
UID:817-1775325600-1775336400@dailyobjectivedistillery.com
SUMMARY:Mendon Hale | LIVE MUSIC at Daily Objective Distillery | Saturday\, April 4
DESCRIPTION:Missouri-native Mendon Hale is bringing his signature country sound to Daily Objective Distillery for a night you won’t want to miss—live music from 6–9 PM\, craft cocktails flowing\, and plenty of good company to go around. Make an evening of it with Uncle Dave’s BBQ food truck on-site\, explore a behind-the-scenes distillery tour\, and kick back with friends while enjoying toe-tapping tunes and slow-sipped spirits.
URL:https://dailyobjectivedistillery.com/event/mendon-hale-live-music-at-daily-objective-distillery-saturday-april-4/
LOCATION:14215 NW State Route J\, Amsterdam\, MO\, United States\, Missouri 64723
ATTACH;FMTTYPE=image/jpeg:https://dailyobjectivedistillery.com/wp-content/uploads/2026/03/817_image_644996954_122156675054721627_1376876554406931131_n.jpg
END:VEVENT
END:VCALENDAR