BEGIN:VCALENDAR
VERSION:2.0
PRODID:-//Daily Objective Distillery - ECPv6.15.20//NONSGML v1.0//EN
CALSCALE:GREGORIAN
METHOD:PUBLISH
X-WR-CALNAME:Daily Objective Distillery
X-ORIGINAL-URL:https://dailyobjectivedistillery.com
X-WR-CALDESC:Events for Daily Objective Distillery
REFRESH-INTERVAL;VALUE=DURATION:PT1H
X-Robots-Tag:noindex
X-PUBLISHED-TTL:PT1H
BEGIN:VTIMEZONE
TZID:America/Chicago
BEGIN:DAYLIGHT
TZOFFSETFROM:-0600
TZOFFSETTO:-0500
TZNAME:CDT
DTSTART:20250309T080000
END:DAYLIGHT
BEGIN:STANDARD
TZOFFSETFROM:-0500
TZOFFSETTO:-0600
TZNAME:CST
DTSTART:20251102T070000
END:STANDARD
BEGIN:DAYLIGHT
TZOFFSETFROM:-0600
TZOFFSETTO:-0500
TZNAME:CDT
DTSTART:20260308T080000
END:DAYLIGHT
BEGIN:STANDARD
TZOFFSETFROM:-0500
TZOFFSETTO:-0600
TZNAME:CST
DTSTART:20261101T070000
END:STANDARD
BEGIN:DAYLIGHT
TZOFFSETFROM:-0600
TZOFFSETTO:-0500
TZNAME:CDT
DTSTART:20270314T080000
END:DAYLIGHT
BEGIN:STANDARD
TZOFFSETFROM:-0500
TZOFFSETTO:-0600
TZNAME:CST
DTSTART:20271107T070000
END:STANDARD
END:VTIMEZONE
BEGIN:VEVENT
DTSTART;TZID=America/Chicago:20260402T180000
DTEND;TZID=America/Chicago:20260402T210000
DTSTAMP:20260420T142602
CREATED:20260303T104318Z
LAST-MODIFIED:20260402T104227Z
UID:821-1775152800-1775163600@dailyobjectivedistillery.com
SUMMARY:Keith & Emmy | LIVE at Daily Objective Distillery | Thursday\, April 2
DESCRIPTION:Join Keith Ladd Band on April 2 as Keith and Emmy head out to DOD for an evening of great music. Food truck for this night is Mac Daddy!  \nBringing you a mix of country\, rock\, classic rock\, blues\, and 90s favorites — plus a few original songs — this show promises something for everyone. \nMark your calendar and come enjoy a night of live music done right.
URL:https://dailyobjectivedistillery.com/event/keith-emmy-live-at-daily-objective-distillery-thursday-april-2/
LOCATION:14215 NW State Route J\, Amsterdam\, MO\, United States\, Missouri 64723
ATTACH;FMTTYPE=image/jpeg:https://dailyobjectivedistillery.com/wp-content/uploads/2026/03/821_image_642444527_122156676050721627_4277955608580799638_n.jpg
END:VEVENT
END:VCALENDAR